
BEGIN:VCALENDAR
VERSION:2.0
PRODID:-//Mercy Multiplied - ECPv6.15.17.1//NONSGML v1.0//EN
CALSCALE:GREGORIAN
METHOD:PUBLISH
X-WR-CALNAME:Mercy Multiplied
X-ORIGINAL-URL:https://mercymultiplied.com
X-WR-CALDESC:Events for Mercy Multiplied
REFRESH-INTERVAL;VALUE=DURATION:PT1H
X-Robots-Tag:noindex
X-PUBLISHED-TTL:PT1H
BEGIN:VTIMEZONE
TZID:America/Chicago
BEGIN:DAYLIGHT
TZOFFSETFROM:-0600
TZOFFSETTO:-0500
TZNAME:CDT
DTSTART:20250309T080000
END:DAYLIGHT
BEGIN:STANDARD
TZOFFSETFROM:-0500
TZOFFSETTO:-0600
TZNAME:CST
DTSTART:20251102T070000
END:STANDARD
BEGIN:DAYLIGHT
TZOFFSETFROM:-0600
TZOFFSETTO:-0500
TZNAME:CDT
DTSTART:20260308T080000
END:DAYLIGHT
BEGIN:STANDARD
TZOFFSETFROM:-0500
TZOFFSETTO:-0600
TZNAME:CST
DTSTART:20261101T070000
END:STANDARD
BEGIN:DAYLIGHT
TZOFFSETFROM:-0600
TZOFFSETTO:-0500
TZNAME:CDT
DTSTART:20270314T080000
END:DAYLIGHT
BEGIN:STANDARD
TZOFFSETFROM:-0500
TZOFFSETTO:-0600
TZNAME:CST
DTSTART:20271107T070000
END:STANDARD
END:VTIMEZONE
BEGIN:VEVENT
DTSTART;TZID=America/Chicago:20260319T120000
DTEND;TZID=America/Chicago:20260319T133000
DTSTAMP:20260425T061627
CREATED:20251125T175924Z
LAST-MODIFIED:20260310T215124Z
UID:32171-1773921600-1773927000@mercymultiplied.com
SUMMARY:Friends of Mercy Luncheon\, Monroe
DESCRIPTION:Join us for a complimentary lunch and learn more about Mercy Multiplied. Hear inspiring stories of hope and transformation\, with the opportunity to take a tour following lunch. Finally\, learn about our Outreach Services and how to make a difference in the lives of hurting people around you. No registration fee but seating capacity is limited and space can fill up quickly\, so please RSVP by Wednesday\, March 18th!
URL:https://mercymultiplied.com/event/friends-of-mercy-luncheon-monroe/
LOCATION:Mercy Multiplied Monroe Home\, Monroe\, LA\, United States
CATEGORIES:Friends of Mercy Luncheons,Friends of Mercy Luncheons Monroe, LA,Louisiana Events
ATTACH;FMTTYPE=image/jpeg:https://mercymultiplied.com/wp-content/uploads/2025/11/Untitled-600-x-400-px-1.jpg
ORGANIZER;CN="Caronda Williams":MAILTO:cwilliams@mercymultiplied.com
END:VEVENT
BEGIN:VEVENT
DTSTART;TZID=America/Chicago:20260325T120000
DTEND;TZID=America/Chicago:20260325T133000
DTSTAMP:20260425T061627
CREATED:20251216T222138Z
LAST-MODIFIED:20260310T215217Z
UID:32195-1774440000-1774445400@mercymultiplied.com
SUMMARY:Friends of Mercy Luncheon\, Nashville
DESCRIPTION:Join us for a complimentary lunch and learn more about Mercy Multiplied. Hear inspiring stories of hope and transformation\, with the opportunity to take a tour following lunch. Finally\, learn about our Outreach Services and how to make a difference in the lives of hurting people around you. There is no registration fee\, but seating capacity is limited\, and space can fill up quickly. Please RSVP by Tuesday\, March 24th!
URL:https://mercymultiplied.com/event/friends-of-mercy-luncheon-nashville/
LOCATION:Mercy Multiplied Nashville Home\, Nashville\, TN\, United States
CATEGORIES:Friends of Mercy Luncheons,Friends of Mercy Luncheons in Nashville, TN,Tennessee Events
ATTACH;FMTTYPE=image/jpeg:https://mercymultiplied.com/wp-content/uploads/2025/12/Untitled-600-x-400-px-2.jpg
ORGANIZER;CN="Hayley Freels":MAILTO:hfreels@mercymultiplied.com
END:VEVENT
BEGIN:VEVENT
DTSTART;TZID=America/Chicago:20260611T120000
DTEND;TZID=America/Chicago:20260611T133000
DTSTAMP:20260425T061627
CREATED:20251215T220635Z
LAST-MODIFIED:20260406T205725Z
UID:32191-1781179200-1781184600@mercymultiplied.com
SUMMARY:Friends of Mercy Luncheon\, St. Louis
DESCRIPTION:Join us for a complimentary lunch and learn more about Mercy Multiplied. Hear inspiring stories of hope and transformation\, with the opportunity to take a tour following lunch. Finally\, learn about our Outreach Services and how to make a difference in the lives of hurting people around you. No registration fee but seating capacity is limited and space can fill up quickly so please RSVP by Monday\, June 9th. 
URL:https://mercymultiplied.com/event/friends-of-mercy-luncheon-st-louis-2/
LOCATION:Mercy Multiplied St. Louis Home\, St. Louis\, MO\, United States
CATEGORIES:Friends of Mercy Luncheons,Friends of Mercy Luncheons in St. Louis, MO,Missouri Events
ATTACH;FMTTYPE=image/jpeg:https://mercymultiplied.com/wp-content/uploads/2025/12/St-Louis-FOML-scaled.jpg
ORGANIZER;CN="Karen Klarich":MAILTO:kklarich@mercymultiplied.com
END:VEVENT
BEGIN:VEVENT
DTSTART;TZID=America/Chicago:20260618T120000
DTEND;TZID=America/Chicago:20260618T133000
DTSTAMP:20260425T061627
CREATED:20251215T220837Z
LAST-MODIFIED:20260310T215259Z
UID:32193-1781784000-1781789400@mercymultiplied.com
SUMMARY:Friends of Mercy Luncheon\, Monroe
DESCRIPTION:Join us for a complimentary lunch and learn more about Mercy Multiplied. Hear inspiring stories of hope and transformation\, with the opportunity to take a tour following lunch. Finally\, learn about our Outreach Services and how to make a difference in the lives of hurting people around you. There is no registration fee\, but seating capacity is limited\, and space can fill up quickly. Please RSVP by Wednesday\, June 17!
URL:https://mercymultiplied.com/event/friends-of-mercy-luncheon-monroe-3/
LOCATION:Mercy Multiplied Monroe Home\, Monroe\, LA\, United States
CATEGORIES:Friends of Mercy Luncheons,Friends of Mercy Luncheons Monroe, LA,Louisiana Events
ATTACH;FMTTYPE=image/jpeg:https://mercymultiplied.com/wp-content/uploads/2025/12/Untitled-600-x-400-px-4.jpg
ORGANIZER;CN="Caronda Williams":MAILTO:cwilliams@mercymultiplied.com
END:VEVENT
BEGIN:VEVENT
DTSTART;TZID=America/Chicago:20260826T120000
DTEND;TZID=America/Chicago:20260826T133000
DTSTAMP:20260425T061627
CREATED:20251219T220804Z
LAST-MODIFIED:20260109T214646Z
UID:32215-1787745600-1787751000@mercymultiplied.com
SUMMARY:Friends of Mercy Luncheon\, Nashville
DESCRIPTION:Join us for a complimentary lunch and learn more about Mercy Multiplied. Hear inspiring stories of hope and transformation\, with the opportunity to take a tour following lunch. Finally\, learn about our Outreach Services and how to make a difference in the lives of hurting people around you. There is no registration fee\, but seating capacity is limited\, and space can fill up quickly. Please RSVP by Tuesday\, August 25th!
URL:https://mercymultiplied.com/event/friends-of-mercy-luncheon-nashville-2/
LOCATION:Mercy Multiplied Nashville Home\, Nashville\, TN\, United States
CATEGORIES:Friends of Mercy Luncheons,Friends of Mercy Luncheons in Nashville, TN,Tennessee Events
ATTACH;FMTTYPE=image/jpeg:https://mercymultiplied.com/wp-content/uploads/2022/01/IMG_1659.jpg
ORGANIZER;CN="Hayley Freels":MAILTO:hfreels@mercymultiplied.com
END:VEVENT
BEGIN:VEVENT
DTSTART;TZID=America/Chicago:20260903T120000
DTEND;TZID=America/Chicago:20260903T133000
DTSTAMP:20260425T061627
CREATED:20251215T220423Z
LAST-MODIFIED:20251215T220423Z
UID:32189-1788436800-1788442200@mercymultiplied.com
SUMMARY:Friends of Mercy Luncheon\, Monroe
DESCRIPTION:Join us for a complimentary lunch and learn more about Mercy Multiplied. Hear inspiring stories of hope and transformation\, with the opportunity to take a tour following lunch. Finally\, learn about our Outreach Services and how to make a difference in the lives of hurting people around you. There is no registration fee\, but seating capacity is limited\, and space can fill up quickly. Please RSVP by Wednesday\, September 2!
URL:https://mercymultiplied.com/event/friends-of-mercy-luncheon-monroe-2/
LOCATION:Mercy Multiplied Monroe Home\, Monroe\, LA\, United States
CATEGORIES:Friends of Mercy Luncheons,Friends of Mercy Luncheons Monroe, LA,Louisiana Events
ATTACH;FMTTYPE=image/jpeg:https://mercymultiplied.com/wp-content/uploads/2025/01/Monroe-FOML.jpeg
ORGANIZER;CN="Caronda Williams":MAILTO:cwilliams@mercymultiplied.com
END:VEVENT
END:VCALENDAR